BEGIN:VCALENDAR
VERSION:2.0
PRODID:spatie/icalendar-generator
DESCRIPTION:Events from JGSLI
X-WR-CALDESC:Events from JGSLI
REFRESH-INTERVAL;VALUE=DURATION:PT1440M
X-PUBLISHED-TTL:PT1440M
BEGIN:VTIMEZONE
TZID:America/New_York
BEGIN:DAYLIGHT
DTSTART:20230312T020000Z
TZOFFSETFROM:-0500
TZOFFSETTO:-0400
END:DAYLIGHT
BEGIN:STANDARD
DTSTART:20231105T020000Z
TZOFFSETFROM:-0400
TZOFFSETTO:-0500
END:STANDARD
BEGIN:DAYLIGHT
DTSTART:20240310T020000Z
TZOFFSETFROM:-0500
TZOFFSETTO:-0400
END:DAYLIGHT
END:VTIMEZONE
BEGIN:VTIMEZONE
TZID:UTC
BEGIN:STANDARD
DTSTART:20250728T001204Z
TZOFFSETFROM:+0000
TZOFFSETTO:+0000
END:STANDARD
END:VTIMEZONE
BEGIN:VEVENT
UID:58-44
DTSTAMP:20260424T001204Z
SUMMARY:7 PM: Genealogy Collections in the Center for Jewish History’s Ar
 chives by Moriah Amit
LOCATION:
ORGANIZER;CN=JGS Long Island:MAILTO:webmaster@jgsli.org
DTSTART;TZID=America/New_York:20231108T190000
DTEND;TZID=America/New_York:20231108T210000
X-ALT-DESC;FMTTYPE=TEXT/HTML:<p>The Center for Jewish History in New York h
 ouses the largest archive of the modern Jewish experience outside of Israe
 l\, illuminating the history and culture of Jewish communities around the 
 world. Among the Center’s collections are many items that can provide in
 formation about your ancestors and ancestral towns – including the recor
 ds of Jewish orphanages in New York\,  Jewish immigrant aid organizations 
 in the U.S.\, and Jewish communities throughout Germany -- a significant p
 ortion of which can now be viewed online.  In this session\, Moriah Amit w
 ill highlight the collections of greatest value to Jewish genealogists and
  demonstrate how to access them.</p>\n
CATEGORIES:General
URL;VALUE=URI:https://jgsli.org/mc-events/7-pm-genealogy-collections-in-the
 -center-for-jewish-historys-archives-by-moriah-amit/
METHOD:PUBLISH
END:VEVENT
END:VCALENDAR