BEGIN:VCALENDAR
VERSION:2.0
PRODID:spatie/icalendar-generator
DESCRIPTION:Events from JGSLI
X-WR-CALDESC:Events from JGSLI
REFRESH-INTERVAL;VALUE=DURATION:PT1440M
X-PUBLISHED-TTL:PT1440M
BEGIN:VTIMEZONE
TZID:America/New_York
BEGIN:DAYLIGHT
DTSTART:20230312T020000Z
TZOFFSETFROM:-0500
TZOFFSETTO:-0400
END:DAYLIGHT
BEGIN:STANDARD
DTSTART:20231105T020000Z
TZOFFSETFROM:-0400
TZOFFSETTO:-0500
END:STANDARD
BEGIN:DAYLIGHT
DTSTART:20240310T020000Z
TZOFFSETFROM:-0500
TZOFFSETTO:-0400
END:DAYLIGHT
END:VTIMEZONE
BEGIN:VTIMEZONE
TZID:UTC
BEGIN:STANDARD
DTSTART:20250728T000944Z
TZOFFSETFROM:+0000
TZOFFSETTO:+0000
END:STANDARD
END:VTIMEZONE
BEGIN:VEVENT
UID:54-42
DTSTAMP:20260424T000944Z
SUMMARY:7PM: Exploring the JewishGen USA Research Division by Ellen Shindel
 man Kowitt
LOCATION:
ORGANIZER;CN=JGS Long Island:MAILTO:webmaster@jgsli.org
DTSTART;TZID=America/New_York:20230920T190000
DTEND;TZID=America/New_York:20230920T210000
X-ALT-DESC;FMTTYPE=TEXT/HTML:<p>JewishGen’s USA Research Division was lau
 nched in 2020 and provides resources for researching Jews in the United St
 ates and earlier colonies 1654 to the present including a growing USA data
 base with a variety of indexed collections\; a website with many links to 
 historical\, archival\, and regional materials of interest\; a JewishGen T
 alks webinar series featuring prominent archivists and experts\; and the n
 ew Shul Records America finding aid assisting with locating hard-to-find s
 ynagogue records.<br />\n(Presentation via Zoom)</p>\n
CATEGORIES:General
URL;VALUE=URI:https://jgsli.org/mc-events/7pm-exploring-the-jewishgen-usa-r
 esearch-division-by-ellen-shindelman-kowitt/
METHOD:PUBLISH
END:VEVENT
END:VCALENDAR