BEGIN:VCALENDAR
VERSION:2.0
PRODID:spatie/icalendar-generator
DESCRIPTION:Events from JGSLI
X-WR-CALDESC:Events from JGSLI
REFRESH-INTERVAL;VALUE=DURATION:PT1440M
X-PUBLISHED-TTL:PT1440M
BEGIN:VTIMEZONE
TZID:America/New_York
BEGIN:DAYLIGHT
DTSTART:20230312T020000Z
TZOFFSETFROM:-0500
TZOFFSETTO:-0400
END:DAYLIGHT
BEGIN:STANDARD
DTSTART:20231105T020000Z
TZOFFSETFROM:-0400
TZOFFSETTO:-0500
END:STANDARD
END:VTIMEZONE
BEGIN:VTIMEZONE
TZID:UTC
BEGIN:STANDARD
DTSTART:20250728T032154Z
TZOFFSETFROM:+0000
TZOFFSETTO:+0000
END:STANDARD
END:VTIMEZONE
BEGIN:VEVENT
UID:49-38
DTSTAMP:20260424T032154Z
SUMMARY:7PM: Bubbie\, Who Are You?: Finding the Maiden Names in Your Family
  Tree by Janice Sellers
LOCATION:Virtual via Zoom
ORGANIZER;CN=JGS Long Island:MAILTO:webmaster@jgsli.org
DTSTART;TZID=America/New_York:20230816T190000
DTEND;TZID=America/New_York:20230816T210000
X-ALT-DESC;FMTTYPE=TEXT/HTML:<p>Female relatives can be difficult to trace\
 , but they can be found. This presentation introduces resources for tracin
 g the women in your family\, many of which are available online\, includin
 g family items\, oral histories\, federal and state census records\, immig
 ration records\, vital records\, religious records\, journals\, newspapers
 \, legal and court records\, library archives\, and manuscript collections
 .</p>\n
CATEGORIES:General
URL;VALUE=URI:https://jgsli.org/mc-events/7pm-bubbie-who-are-you-finding-th
 e-maiden-names-in-your-family-tree-by-janice-sellers/
METHOD:PUBLISH
END:VEVENT
END:VCALENDAR