BEGIN:VCALENDAR
VERSION:2.0
PRODID:spatie/icalendar-generator
DESCRIPTION:Events from JGSLI
X-WR-CALDESC:Events from JGSLI
REFRESH-INTERVAL;VALUE=DURATION:PT1440M
X-PUBLISHED-TTL:PT1440M
BEGIN:VTIMEZONE
TZID:America/New_York
BEGIN:STANDARD
DTSTART:20221106T020000Z
TZOFFSETFROM:-0400
TZOFFSETTO:-0500
END:STANDARD
BEGIN:DAYLIGHT
DTSTART:20230312T020000Z
TZOFFSETFROM:-0500
TZOFFSETTO:-0400
END:DAYLIGHT
BEGIN:STANDARD
DTSTART:20231105T020000Z
TZOFFSETFROM:-0400
TZOFFSETTO:-0500
END:STANDARD
END:VTIMEZONE
BEGIN:VTIMEZONE
TZID:UTC
BEGIN:STANDARD
DTSTART:20250728T025627Z
TZOFFSETFROM:+0000
TZOFFSETTO:+0000
END:STANDARD
END:VTIMEZONE
BEGIN:VEVENT
UID:48-37
DTSTAMP:20260424T025627Z
SUMMARY:7PM: Genealogy Research at the YIVO Institute for Jewish Research b
 y Hallel Yadin
LOCATION:Virtual via Zoom
ORGANIZER;CN=JGS Long Island:MAILTO:webmaster@jgsli.org
DTSTART;TZID=America/New_York:20230719T190000
DTEND;TZID=America/New_York:20230719T200000
X-ALT-DESC;FMTTYPE=TEXT/HTML:<p>The archives and library of the YIVO Instit
 ute for Jewish Research constitute the world’s largest collection on Eas
 tern European Jewish history. They include a wealth of sources for genealo
 gical research. In this session\, we will review the kinds of documents av
 ailable at YIVO\, including pre-war community records\, yizkor books\, imm
 igration case files\, benevolent society records\, and more. We will also 
 discuss how to effectively search YIVO’s online catalogs and how to acce
 ss YIVO’s holdings remotely.</p>\n
CATEGORIES:General
URL;VALUE=URI:https://jgsli.org/mc-events/7pm-genealogy-research-at-the-yiv
 o-institute-for-jewish-research-by-hallel-yadin/
METHOD:PUBLISH
END:VEVENT
END:VCALENDAR