BEGIN:VCALENDAR
VERSION:2.0
PRODID:spatie/icalendar-generator
DESCRIPTION:Events from JGSLI
X-WR-CALDESC:Events from JGSLI
REFRESH-INTERVAL;VALUE=DURATION:PT1440M
X-PUBLISHED-TTL:PT1440M
BEGIN:VTIMEZONE
TZID:America/New_York
BEGIN:STANDARD
DTSTART:20221106T020000Z
TZOFFSETFROM:-0400
TZOFFSETTO:-0500
END:STANDARD
BEGIN:DAYLIGHT
DTSTART:20230312T020000Z
TZOFFSETFROM:-0500
TZOFFSETTO:-0400
END:DAYLIGHT
BEGIN:STANDARD
DTSTART:20231105T020000Z
TZOFFSETFROM:-0400
TZOFFSETTO:-0500
END:STANDARD
END:VTIMEZONE
BEGIN:VTIMEZONE
TZID:UTC
BEGIN:STANDARD
DTSTART:20250728T032006Z
TZOFFSETFROM:+0000
TZOFFSETTO:+0000
END:STANDARD
END:VTIMEZONE
BEGIN:VEVENT
UID:47-36
DTSTAMP:20260424T032006Z
SUMMARY:7PM: Inspiring Genealogy in the Next Generation
LOCATION:Virtual via Zoom
ORGANIZER;CN=JGS Long Island:MAILTO:webmaster@jgsli.org
DTSTART;TZID=America/New_York:20230510T190000
DTEND;TZID=America/New_York:20230510T210000
X-ALT-DESC;FMTTYPE=TEXT/HTML:<p>Speakers: Nolan Altman\, Alexander Luis-Kam
 iner\, Anya Morgulis\, Yonah Paley</p>\n<p>Nolan Altman is a past preside
 nt and longtime board member of the JGS of Long Island. Over 25 years ago
 \, a simple question from his daughter sent him -- in his words -- \"down
  genealogy rabbit holes\" that eventually led him to coordinate JewishGen.
 org's JOWBR\, Holocaust\, and Memorial Plaques Databases. Alexander Luis-K
 aminer is a 15-year-old high school student from Montreal\, who began his
  genealogy research at age 9. Anya Morgulis is Director of Education and 
 Engagement at Temple Beth Israel in Port Washington. Yonah Paley is host 
 of the YouTube channel \"Genealogy is Fun.\" He focuses on using dynamic o
 nline strategies to improve accuracy and efficiency in research.</p>\n
CATEGORIES:General
URL;VALUE=URI:https://jgsli.org/mc-events/7pm-inspiring-genealogy-in-the-ne
 xt-generation/
METHOD:PUBLISH
END:VEVENT
END:VCALENDAR