BEGIN:VCALENDAR
VERSION:2.0
PRODID:spatie/icalendar-generator
DESCRIPTION:Events from JGSLI
X-WR-CALDESC:Events from JGSLI
REFRESH-INTERVAL;VALUE=DURATION:PT1440M
X-PUBLISHED-TTL:PT1440M
BEGIN:VTIMEZONE
TZID:America/New_York
BEGIN:STANDARD
DTSTART:20221106T020000Z
TZOFFSETFROM:-0400
TZOFFSETTO:-0500
END:STANDARD
BEGIN:DAYLIGHT
DTSTART:20230312T020000Z
TZOFFSETFROM:-0500
TZOFFSETTO:-0400
END:DAYLIGHT
BEGIN:STANDARD
DTSTART:20231105T020000Z
TZOFFSETFROM:-0400
TZOFFSETTO:-0500
END:STANDARD
END:VTIMEZONE
BEGIN:VTIMEZONE
TZID:UTC
BEGIN:STANDARD
DTSTART:20250728T024355Z
TZOFFSETFROM:+0000
TZOFFSETTO:+0000
END:STANDARD
END:VTIMEZONE
BEGIN:VEVENT
UID:41-34
DTSTAMP:20260424T024355Z
SUMMARY:7PM - Motherlodes of Golden Nuggets: 19th and Early-20th Century Ne
 wspaper Research by Nancy Lewin
LOCATION:
ORGANIZER;CN=JGS Long Island:MAILTO:webmaster@jgsli.org
DTSTART;TZID=America/New_York:20230614T190000
DTEND;TZID=America/New_York:20230614T210000
X-ALT-DESC;FMTTYPE=TEXT/HTML:<p>Did you know that your relatives\, the Myer
 s and Goldsmiths\, were among the founders of a local Jewish congregation 
 and that their request for incorporation was published in the local newspa
 per? Or that Uncle Charles served in World War I and The Brooklyn Daily Ea
 gle announced that he was “killed in action.” Or that Great-Grandfathe
 r Isaac attended a dance in 1892 and that “many lasses had hoped for a t
 urn on the floor” with him? Or that in 1895\, Great-Great-Uncle Gerson o
 f 448 Grand Street in Manhattan was charged with “secreting jewelry” a
 nd his arrest was reported in The New York Times?  Colorful (and sometimes
  sensational) family tidbits as well as swaths of cultural\, social\, mili
 tary\, and historical information can be found in historical newspapers. B
 uried within them are clues that may suggest and lead you to additional ne
 w and important genealogical records and resources.   Many United States n
 ewspapers are now digitized and searchable online. This lecture will discu
 ss this wonderful resource and provide examples of why historical newspape
 r research should not be overlooked.</p>\n
CATEGORIES:Virtual via Zoom
URL;VALUE=URI:https://jgsli.org/mc-events/7pm-motherlodes-of-golden-nuggets
 -19th-and-early-20th-century-newspaper-research-by-nancy-lewin/
METHOD:PUBLISH
END:VEVENT
END:VCALENDAR