BEGIN:VCALENDAR
VERSION:2.0
PRODID:spatie/icalendar-generator
DESCRIPTION:Events from JGSLI
X-WR-CALDESC:Events from JGSLI
REFRESH-INTERVAL;VALUE=DURATION:PT1440M
X-PUBLISHED-TTL:PT1440M
BEGIN:VTIMEZONE
TZID:America/New_York
BEGIN:STANDARD
DTSTART:20221106T020000Z
TZOFFSETFROM:-0400
TZOFFSETTO:-0500
END:STANDARD
BEGIN:DAYLIGHT
DTSTART:20230312T020000Z
TZOFFSETFROM:-0500
TZOFFSETTO:-0400
END:DAYLIGHT
END:VTIMEZONE
BEGIN:VTIMEZONE
TZID:UTC
BEGIN:STANDARD
DTSTART:20250728T024349Z
TZOFFSETFROM:+0000
TZOFFSETTO:+0000
END:STANDARD
END:VTIMEZONE
BEGIN:VEVENT
UID:31-25
DTSTAMP:20260424T024349Z
SUMMARY:2PM: Operation Benjamin by Rachel Silverman
LOCATION:
ORGANIZER;CN=JGS Long Island:MAILTO:webmaster@jgsli.org
DTSTART;TZID=America/New_York:20230129T140000
DTEND;TZID=America/New_York:20230129T160000
X-ALT-DESC;FMTTYPE=TEXT/HTML:<p>This presentation will detail the work of O
 peration Benjamin\, a non-profit dedicated to locating Jewish personnel at
  World War II American military cemeteries all over the world who\, for va
 rious reasons\, were buried under Latin crosses. Our mission is to correct
  these mistakes\, with the help of the American Battle Monuments Commissio
 n (ABMC)\, and provide comfort to the families of the fallen. We will cove
 r the headstone change process from beginning to end\, the main genealogic
 al resources we utilize while researching soldiers\, and highlight a very 
 special local resource that is vital to our work.</p>\n
CATEGORIES:General
URL;VALUE=URI:https://jgsli.org/mc-events/2pm-operation-benjamin-by-rachel-
 silverman/
METHOD:PUBLISH
END:VEVENT
END:VCALENDAR