BEGIN:VCALENDAR
VERSION:2.0
PRODID:spatie/icalendar-generator
DESCRIPTION:Events from JGSLI
X-WR-CALDESC:Events from JGSLI
REFRESH-INTERVAL;VALUE=DURATION:PT1440M
X-PUBLISHED-TTL:PT1440M
BEGIN:VTIMEZONE
TZID:America/New_York
BEGIN:STANDARD
DTSTART:20221106T020000Z
TZOFFSETFROM:-0400
TZOFFSETTO:-0500
END:STANDARD
BEGIN:DAYLIGHT
DTSTART:20230312T020000Z
TZOFFSETFROM:-0500
TZOFFSETTO:-0400
END:DAYLIGHT
END:VTIMEZONE
BEGIN:VTIMEZONE
TZID:UTC
BEGIN:STANDARD
DTSTART:20250728T042248Z
TZOFFSETFROM:+0000
TZOFFSETTO:+0000
END:STANDARD
END:VTIMEZONE
BEGIN:VEVENT
UID:30-24
DTSTAMP:20260424T042248Z
SUMMARY:7PM: Surprising Revelations from Members Research and How to Turn O
 ur Stories into a Family Legacy
LOCATION:
ORGANIZER;CN=JGS Long Island:MAILTO:webmaster@jgsli.org
DTSTART;TZID=America/New_York:20230111T190000
DTEND;TZID=America/New_York:20230111T200000
X-ALT-DESC;FMTTYPE=TEXT/HTML:<p>Members of JGSLI share revelations from the
 ir genealogy research. How a newly found wedding invitation from 1930 reve
 aled a mystery and how the answer connected to a previously unconnected po
 rtion of the family tree\, which in turn provided a contact to a cousin ma
 tch. How an unknown DNA match led to a Holocaust survivor and a new apprec
 iation of joining forces with other genealogists. And\, how DNA and Docume
 nts came together to reveal surprising information. Come to this meeting t
 o learn more about how genealogy can lead to incredible family stories. Th
 e second part of the meeting we will show how to turn your personal story 
 into something tangible\, such as a movie\, book or album.</p>\n
CATEGORIES:Virtual via Zoom
URL;VALUE=URI:https://jgsli.org/mc-events/7pm-surprising-revelations-from-m
 embers-research-and-how-to-turn-our-stories-into-a-family-legacy/
METHOD:PUBLISH
END:VEVENT
END:VCALENDAR