BEGIN:VCALENDAR
VERSION:2.0
PRODID:spatie/icalendar-generator
DESCRIPTION:Events from JGSLI
X-WR-CALDESC:Events from JGSLI
REFRESH-INTERVAL;VALUE=DURATION:PT1440M
X-PUBLISHED-TTL:PT1440M
BEGIN:VTIMEZONE
TZID:America/New_York
BEGIN:DAYLIGHT
DTSTART:20220313T020000Z
TZOFFSETFROM:-0500
TZOFFSETTO:-0400
END:DAYLIGHT
BEGIN:STANDARD
DTSTART:20221106T020000Z
TZOFFSETFROM:-0400
TZOFFSETTO:-0500
END:STANDARD
BEGIN:DAYLIGHT
DTSTART:20230312T020000Z
TZOFFSETFROM:-0500
TZOFFSETTO:-0400
END:DAYLIGHT
END:VTIMEZONE
BEGIN:VTIMEZONE
TZID:UTC
BEGIN:STANDARD
DTSTART:20250728T060550Z
TZOFFSETFROM:+0000
TZOFFSETTO:+0000
END:STANDARD
END:VTIMEZONE
BEGIN:VEVENT
UID:24-19
DTSTAMP:20260424T060550Z
SUMMARY:2PM: Grandma said What?  Gathering and Verifying Your Family's Oral
  History by Sara Cochran
LOCATION:
ORGANIZER;CN=JGS Long Island:MAILTO:webmaster@jgsli.org
DTSTART;TZID=America/New_York:20221023T140000
DTEND;TZID=America/New_York:20221023T160000
X-ALT-DESC;FMTTYPE=TEXT/HTML:<p>Sara Cochran is a full-time professional ge
 nealogist with over twenty-five years of research experience. She will def
 ine what oral history is and talk about strategies to interview your famil
 y\; then\, go through the methodology of verifying a family story.</p>\n
CATEGORIES:Virtual via Zoom
URL;VALUE=URI:https://jgsli.org/mc-events/2pm-grandma-said-what-gathering-a
 nd-verifying-your-familys-oral-history-by-sara-cochran/
METHOD:PUBLISH
END:VEVENT
END:VCALENDAR