BEGIN:VCALENDAR
VERSION:2.0
PRODID:spatie/icalendar-generator
DESCRIPTION:Events from JGSLI
X-WR-CALDESC:Events from JGSLI
REFRESH-INTERVAL;VALUE=DURATION:PT1440M
X-PUBLISHED-TTL:PT1440M
BEGIN:VTIMEZONE
TZID:America/New_York
BEGIN:DAYLIGHT
DTSTART:20220313T020000Z
TZOFFSETFROM:-0500
TZOFFSETTO:-0400
END:DAYLIGHT
BEGIN:STANDARD
DTSTART:20221106T020000Z
TZOFFSETFROM:-0400
TZOFFSETTO:-0500
END:STANDARD
BEGIN:DAYLIGHT
DTSTART:20230312T020000Z
TZOFFSETFROM:-0500
TZOFFSETTO:-0400
END:DAYLIGHT
END:VTIMEZONE
BEGIN:VTIMEZONE
TZID:UTC
BEGIN:STANDARD
DTSTART:20250728T091759Z
TZOFFSETFROM:+0000
TZOFFSETTO:+0000
END:STANDARD
END:VTIMEZONE
BEGIN:VEVENT
UID:21-17
DTSTAMP:20260424T091759Z
SUMMARY:2PM Advanced Tools on MyHeritage by Daniel Horowitz
LOCATION:
ORGANIZER;CN=JGS Long Island:MAILTO:webmaster@jgsli.org
DTSTART;TZID=America/New_York;VALUE=DATE:20220918
DTEND;TZID=America/New_York;VALUE=DATE:20220919
X-ALT-DESC;FMTTYPE=TEXT/HTML:Check out the latest MyHeritage innovations to
  expand your research! Explore advanced MyHeritage features that will enha
 nce your family tree and make the most of your DNA results. Learn more abo
 ut Pedigree View\, PedigreeMap™\, the Consistency Checker\, the Theory o
 f Family Relativity™\, AutoClusters\, and much more Dedicated to Genealo
 gy since 1986\, Daniel was the teacher&amp;hellip\;
CATEGORIES:General
URL;VALUE=URI:https://jgsli.org/mc-events/2pm-advanced-tools-on-myheritage-
 by-daniel-horowitz/
METHOD:PUBLISH
END:VEVENT
END:VCALENDAR