BEGIN:VCALENDAR
VERSION:2.0
PRODID:spatie/icalendar-generator
DESCRIPTION:Events from JGSLI
X-WR-CALDESC:Events from JGSLI
REFRESH-INTERVAL;VALUE=DURATION:PT1440M
X-PUBLISHED-TTL:PT1440M
BEGIN:VTIMEZONE
TZID:America/New_York
BEGIN:DAYLIGHT
DTSTART:20220313T020000Z
TZOFFSETFROM:-0500
TZOFFSETTO:-0400
END:DAYLIGHT
BEGIN:STANDARD
DTSTART:20221106T020000Z
TZOFFSETFROM:-0400
TZOFFSETTO:-0500
END:STANDARD
END:VTIMEZONE
BEGIN:VTIMEZONE
TZID:UTC
BEGIN:STANDARD
DTSTART:20250728T092326Z
TZOFFSETFROM:+0000
TZOFFSETTO:+0000
END:STANDARD
END:VTIMEZONE
BEGIN:VEVENT
UID:20-16
DTSTAMP:20260424T092326Z
SUMMARY:7PM - Mapping Your Family History: How to Create a Customized Googl
 e Map by Alex Calzareth
LOCATION:
ORGANIZER;CN=JGS Long Island:MAILTO:webmaster@jgsli.org
DTSTART;TZID=America/New_York;VALUE=DATE:20220907
DTEND;TZID=America/New_York;VALUE=DATE:20220908
X-ALT-DESC;FMTTYPE=TEXT/HTML:<p>Create maps with your own data on Google Ma
 ps. This presentation will teach you how to create a custom map\, import l
 ocation data associated with family history events or source records and t
 hen customize the appearance of that data on the map. Custom maps can be u
 sed in many ways\, including visually conveying family migration patterns\
 , showing the location of regional cemeteries\, or which towns hold certai
 n vital records.</p>\n
CATEGORIES:General
URL;VALUE=URI:https://jgsli.org/mc-events/7pm-mapping-your-family-history-h
 ow-to-create-a-customized-google-map-by-alex-calzareth/
METHOD:PUBLISH
END:VEVENT
END:VCALENDAR