BEGIN:VCALENDAR
VERSION:2.0
PRODID:spatie/icalendar-generator
DESCRIPTION:Events from JGSLI
X-WR-CALDESC:Events from JGSLI
REFRESH-INTERVAL;VALUE=DURATION:PT1440M
X-PUBLISHED-TTL:PT1440M
BEGIN:VTIMEZONE
TZID:America/New_York
BEGIN:STANDARD
DTSTART:20211107T020000Z
TZOFFSETFROM:-0400
TZOFFSETTO:-0500
END:STANDARD
BEGIN:DAYLIGHT
DTSTART:20220313T020000Z
TZOFFSETFROM:-0500
TZOFFSETTO:-0400
END:DAYLIGHT
END:VTIMEZONE
BEGIN:VTIMEZONE
TZID:UTC
BEGIN:STANDARD
DTSTART:20250728T161401Z
TZOFFSETFROM:+0000
TZOFFSETTO:+0000
END:STANDARD
END:VTIMEZONE
BEGIN:VEVENT
UID:2-2
DTSTAMP:20260424T161401Z
SUMMARY:7PM - New-found JewishGen Ukraine Research Group Records: The Krako
 vsky Documents
LOCATION:
ORGANIZER;CN=JGS Long Island:MAILTO:webmaster@jgsli.org
DTSTART;TZID=America/New_York:20220119T190000
DTEND;TZID=America/New_York:20220119T200000
X-ALT-DESC;FMTTYPE=TEXT/HTML:<p>Virtual Only - Gary Pokrassa and Joel Spect
 or will update us on Alex Krakovsky’s work in Ukraine to access Jewish r
 ecords. They will speak about the obstacles Alex faces\, the part that the
  JewishGen Ukraine Research Division plays in his work\, and how and where
  to access the thousands of documents he has already acquired.</p>\n
CATEGORIES:Virtual via Zoom
URL;VALUE=URI:https://jgsli.org/mc-events/7pm-new-found-jewishgen-ukraine-r
 esearch-group-records-the-krakovsky-documents/
METHOD:PUBLISH
END:VEVENT
END:VCALENDAR