BEGIN:VCALENDAR
VERSION:2.0
PRODID:spatie/icalendar-generator
DESCRIPTION:Events from JGSLI
X-WR-CALDESC:Events from JGSLI
REFRESH-INTERVAL;VALUE=DURATION:PT1440M
X-PUBLISHED-TTL:PT1440M
BEGIN:VTIMEZONE
TZID:America/New_York
BEGIN:STANDARD
DTSTART:20211107T020000Z
TZOFFSETFROM:-0400
TZOFFSETTO:-0500
END:STANDARD
BEGIN:DAYLIGHT
DTSTART:20220313T020000Z
TZOFFSETFROM:-0500
TZOFFSETTO:-0400
END:DAYLIGHT
BEGIN:STANDARD
DTSTART:20221106T020000Z
TZOFFSETFROM:-0400
TZOFFSETTO:-0500
END:STANDARD
END:VTIMEZONE
BEGIN:VTIMEZONE
TZID:UTC
BEGIN:STANDARD
DTSTART:20250728T091700Z
TZOFFSETFROM:+0000
TZOFFSETTO:+0000
END:STANDARD
END:VTIMEZONE
BEGIN:VEVENT
UID:18-14
DTSTAMP:20260424T091700Z
SUMMARY:What’s New in Family Tree Maker Q and A Discussion by Mark Olsen
LOCATION:Virtual via Zoom
ORGANIZER;CN=JGS Long Island:MAILTO:webmaster@jgsli.org
DTSTART;TZID=America/New_York:20220720T190000
DTEND;TZID=America/New_York:20220720T210000
X-ALT-DESC;FMTTYPE=TEXT/HTML:Join us for a live Q and A discussion to answe
 r all your questions about Family Tree Maker\, the latest version\, update
 s\, features and more. This is an interactive session. We love to see you 
 and discuss all your Family Tree Maker questions. We will also talk about 
 Family Tree Maker partner products - Charting&amp;hellip\;
CATEGORIES:General
URL;VALUE=URI:https://jgsli.org/mc-events/whats-new-in-family-tree-maker-q-
 and-a-discussion-by-mark-olsen/
METHOD:PUBLISH
END:VEVENT
END:VCALENDAR