BEGIN:VCALENDAR
VERSION:2.0
PRODID:spatie/icalendar-generator
DESCRIPTION:Events from JGSLI
X-WR-CALDESC:Events from JGSLI
REFRESH-INTERVAL;VALUE=DURATION:PT1440M
X-PUBLISHED-TTL:PT1440M
BEGIN:VTIMEZONE
TZID:America/New_York
BEGIN:STANDARD
DTSTART:20211107T020000Z
TZOFFSETFROM:-0400
TZOFFSETTO:-0500
END:STANDARD
BEGIN:DAYLIGHT
DTSTART:20220313T020000Z
TZOFFSETFROM:-0500
TZOFFSETTO:-0400
END:DAYLIGHT
BEGIN:STANDARD
DTSTART:20221106T020000Z
TZOFFSETFROM:-0400
TZOFFSETTO:-0500
END:STANDARD
END:VTIMEZONE
BEGIN:VTIMEZONE
TZID:UTC
BEGIN:STANDARD
DTSTART:20250728T104457Z
TZOFFSETFROM:+0000
TZOFFSETTO:+0000
END:STANDARD
END:VTIMEZONE
BEGIN:VEVENT
UID:17-13
DTSTAMP:20260424T104457Z
SUMMARY:2PM Jewish Genealogical Resources in the Archives of Southern and S
 outheastern Ukraine
LOCATION:
ORGANIZER;CN=JGS Long Island:MAILTO:webmaster@jgsli.org
DTSTART;TZID=America/New_York:20220626T140000
DTEND;TZID=America/New_York:20220626T160000
X-ALT-DESC;FMTTYPE=TEXT/HTML:<p>Alex Denysenko will provide a brief history
  of the former Ekaterinoslav\, Kharkov\, Kherson and Tavride gubernias of 
 Czarist Russia\, then review the many significant archival collections ava
 ilable there for Jewish historical and genealogical research. He will also
  discuss the challenges involved in using these records -- such as reading
  old Russian handwriting and understanding archaic terms\, acronyms\, and 
 unfamiliar Jewish terms. </p>\n<p>Alex Denysenko graduated from Lviv State
  University and studied at Yad Vashem's International School of Holocaust 
 Studies in Jerusalem. Since 1991\, he has worked as a researcher\, genealo
 gist and tour guide\, specializing in Central European Jewish history. Bas
 ed in Lviv\, Ukraine\, he has worked with archives in Ukraine\, Poland\, B
 elarus and other countries.</p>\n
CATEGORIES:General
URL;VALUE=URI:https://jgsli.org/mc-events/2pm-jewish-genealogical-resources
 -in-the-archives-of-southern-and-southeastern-ukraine/
METHOD:PUBLISH
END:VEVENT
END:VCALENDAR