BEGIN:VCALENDAR
VERSION:2.0
PRODID:spatie/icalendar-generator
DESCRIPTION:Events from JGSLI
X-WR-CALDESC:Events from JGSLI
REFRESH-INTERVAL;VALUE=DURATION:PT1440M
X-PUBLISHED-TTL:PT1440M
BEGIN:VTIMEZONE
TZID:America/New_York
BEGIN:STANDARD
DTSTART:20211107T020000Z
TZOFFSETFROM:-0400
TZOFFSETTO:-0500
END:STANDARD
BEGIN:DAYLIGHT
DTSTART:20220313T020000Z
TZOFFSETFROM:-0500
TZOFFSETTO:-0400
END:DAYLIGHT
END:VTIMEZONE
BEGIN:VTIMEZONE
TZID:UTC
BEGIN:STANDARD
DTSTART:20250728T161452Z
TZOFFSETFROM:+0000
TZOFFSETTO:+0000
END:STANDARD
END:VTIMEZONE
BEGIN:VEVENT
UID:13-10
DTSTAMP:20260424T161452Z
SUMMARY:7PM -Finding Families In Eastern Europe: Census Records And More by
  Rhoda Miller
LOCATION:
ORGANIZER;CN=JGS Long Island:MAILTO:webmaster@jgsli.org
DTSTART;TZID=America/New_York:20220216T190000
DTEND;TZID=America/New_York:20220216T200000
X-ALT-DESC;FMTTYPE=TEXT/HTML:<p>Virtual Only - The Russian Empire compiled 
 information about households in census-like records at various times: Revi
 sion Lists from 1719-1858\, family lists from time to time thereafter\, an
 d an Empire-wide census in 1897. Using Russian Empire document examples\, 
 this session will explain how families can be followed from one Revision L
 ist to the next. This session will also demonstrate the importance of know
 ing an ancestor’s place of registration for finding related records.</p>
 \n
CATEGORIES:Virtual via Zoom
URL;VALUE=URI:https://jgsli.org/mc-events/7pm-finding-families-in-eastern-e
 urope-census-records-and-more-by-rhoda-miller/
METHOD:PUBLISH
END:VEVENT
END:VCALENDAR