BEGIN:VCALENDAR
VERSION:2.0
PRODID:spatie/icalendar-generator
DESCRIPTION:Events from JGSLI
X-WR-CALDESC:Events from JGSLI
REFRESH-INTERVAL;VALUE=DURATION:PT1440M
X-PUBLISHED-TTL:PT1440M
BEGIN:VTIMEZONE
TZID:America/New_York
BEGIN:DAYLIGHT
DTSTART:20260308T020000Z
TZOFFSETFROM:-0500
TZOFFSETTO:-0400
END:DAYLIGHT
BEGIN:STANDARD
DTSTART:20261101T020000Z
TZOFFSETFROM:-0400
TZOFFSETTO:-0500
END:STANDARD
END:VTIMEZONE
BEGIN:VTIMEZONE
TZID:UTC
BEGIN:STANDARD
DTSTART:20250727T170216Z
TZOFFSETFROM:+0000
TZOFFSETTO:+0000
END:STANDARD
END:VTIMEZONE
BEGIN:VEVENT
UID:122-100
DTSTAMP:20260423T170216Z
SUMMARY:Schindler's Listed: The Search for my Father's Lost Gold by Randi B
 iederman
LOCATION:
ORGANIZER;CN=JGS Long Island:MAILTO:webmaster@jgsli.org
DTSTART;TZID=America/New_York:20260909T190000
DTEND;TZID=America/New_York:20260909T210000
X-ALT-DESC;FMTTYPE=TEXT/HTML:<p>Randi’s father-in-law\, Hirsch\, was a te
 enaged deportee from Poland who ended up as the third person named on Schi
 ndler’s List. His family had a treasured coin collection that they burie
 d to keep out of Nazi hands\, and which was not recovered for over sixty-f
 ive years. Part of the book is the story of the treasure hunt\, which Rand
 i and her husband\, Mark\, embarked upon after Mark related the story that
  his father had told him about the coins. Mark only knew that the coins we
 re buried somewhere in Poland. Mark’s dad died in 1981\, so it was no lo
 nger possible to ask him any details. Mark eventually\, along with Randi\,
  started what ended up being a 20-year quest to discover when and where th
 e family managed to bury the coins. Additionally\, the book is the search 
 for answers as to what happened to Hirsch and the rest of his family all o
 f whom disappeared during the Holocaust. Randi’s mother-in-law\, Sally\,
  was a survivor of several concentration camps\, including Auschwitz\, whe
 re she stood up to the Angel of Death\, Dr. Josef Mengele and lived to tel
 l the tale. She eventually ended up working as a cook in Dr. Mengele’s k
 itchen. The book tells a story of the very dark days of the Holocaust and 
 their impact upon two teenagers\, who\, against all odds\, survived\, met 
 and fell in love and somehow found the strength to emigrate and thrive in 
 their new American life.</p>\n
CATEGORIES:General
URL;VALUE=URI:https://jgsli.org/mc-events/schindlers-listed-the-search-for-
 my-fathers-lost-gold-by-randi-biederman/
METHOD:PUBLISH
END:VEVENT
END:VCALENDAR