BEGIN:VCALENDAR
VERSION:2.0
PRODID:spatie/icalendar-generator
DESCRIPTION:Events from JGSLI
X-WR-CALDESC:Events from JGSLI
REFRESH-INTERVAL;VALUE=DURATION:PT1440M
X-PUBLISHED-TTL:PT1440M
BEGIN:VTIMEZONE
TZID:America/New_York
BEGIN:STANDARD
DTSTART:20211107T020000Z
TZOFFSETFROM:-0400
TZOFFSETTO:-0500
END:STANDARD
BEGIN:DAYLIGHT
DTSTART:20220313T020000Z
TZOFFSETFROM:-0500
TZOFFSETTO:-0400
END:DAYLIGHT
BEGIN:STANDARD
DTSTART:20221106T020000Z
TZOFFSETFROM:-0400
TZOFFSETTO:-0500
END:STANDARD
END:VTIMEZONE
BEGIN:VTIMEZONE
TZID:UTC
BEGIN:STANDARD
DTSTART:20250728T123257Z
TZOFFSETFROM:+0000
TZOFFSETTO:+0000
END:STANDARD
END:VTIMEZONE
BEGIN:VEVENT
UID:12-9
DTSTAMP:20260424T123257Z
SUMMARY:7PM - Tall Tales and Transformations: Researching Two Families Who 
 Changed More Than Their Names by Renee Steinig
LOCATION:
ORGANIZER;CN=JGS Long Island:MAILTO:webmaster@jgsli.org
DTSTART;TZID=America/New_York:20220511T190000
DTEND;TZID=America/New_York:20220511T200000
X-ALT-DESC;FMTTYPE=TEXT/HTML:<p>Most of us have relatives who shortened the
 ir names\, fudged their ages\, or reported birth places that were not quit
 e right. We will look at some instances where such changes were taken to a
  whole new level - cases of deliberate coverups intended to hide past scan
 dals\, or advance careers or social status. For example\, we will explore 
 the family of suffragist Dorothy Frooks and her brother\, Babert Vincent B
 rooks\, two of several siblings who reinvented themselves - managing to co
 nvince influential New Yorkers that their Russian-Jewish immigrant parents
  were Reginald and Rozita\, a \"successful businessman\" and an \"internat
 ional socialite.\" We will also discuss records and strategies that help u
 ncover hidden backgrounds and the need to use multiple sources (and a dose
  of skepticism) in all our research.</p>\n
CATEGORIES:General
URL;VALUE=URI:https://jgsli.org/mc-events/7pm-tall-tales-and-transformation
 s-researching-two-families-who-changed-more-than-their-names-by-renee-stei
 nig/
METHOD:PUBLISH
END:VEVENT
END:VCALENDAR