BEGIN:VCALENDAR
VERSION:2.0
PRODID:spatie/icalendar-generator
DESCRIPTION:Events from JGSLI
X-WR-CALDESC:Events from JGSLI
REFRESH-INTERVAL;VALUE=DURATION:PT1440M
X-PUBLISHED-TTL:PT1440M
BEGIN:VTIMEZONE
TZID:America/New_York
BEGIN:STANDARD
DTSTART:20251102T020000Z
TZOFFSETFROM:-0400
TZOFFSETTO:-0500
END:STANDARD
BEGIN:DAYLIGHT
DTSTART:20260308T020000Z
TZOFFSETFROM:-0500
TZOFFSETTO:-0400
END:DAYLIGHT
BEGIN:STANDARD
DTSTART:20261101T020000Z
TZOFFSETFROM:-0400
TZOFFSETTO:-0500
END:STANDARD
END:VTIMEZONE
BEGIN:VTIMEZONE
TZID:UTC
BEGIN:STANDARD
DTSTART:20250727T164137Z
TZOFFSETFROM:+0000
TZOFFSETTO:+0000
END:STANDARD
END:VTIMEZONE
BEGIN:VEVENT
UID:119-98
DTSTAMP:20260423T164137Z
SUMMARY:Piecing Together Your Ukrainian Story by Ellie Vance Christensen
LOCATION:
ORGANIZER;CN=JGS Long Island:MAILTO:webmaster@jgsli.org
DTSTART;TZID=America/New_York:20260624T190000
DTEND;TZID=America/New_York:20260624T210000
X-ALT-DESC;FMTTYPE=TEXT/HTML:<p>Not sure where to start researching your Je
 wish ancestors from Ukraine? Or\, are you looking to advance your research
  skills in Ukrainian research? Whether you are a beginner or a more experi
 enced researcher\, you’ll be sure to learn something new in this present
 ation. You’ll be guided through each step along the research journey in 
 a case study beginning with an immigrant ancestor. Along the way\, you wil
 l learn how to find and navigate records and helpful hints to trace your f
 amily in Ukraine. This case study will help you learn both methodology and
  familiarity with records and resources for research. Note that this prese
 ntation will primarily focus on areas of Ukraine that were formerly a part
  of the Russian Empire.</p>\n
CATEGORIES:General
URL;VALUE=URI:https://jgsli.org/mc-events/piecing-together-your-ukrainian-s
 tory-by-ellie-vance-christensen/
METHOD:PUBLISH
END:VEVENT
END:VCALENDAR