BEGIN:VCALENDAR
VERSION:2.0
PRODID:spatie/icalendar-generator
DESCRIPTION:Events from JGSLI
X-WR-CALDESC:Events from JGSLI
REFRESH-INTERVAL;VALUE=DURATION:PT1440M
X-PUBLISHED-TTL:PT1440M
BEGIN:VTIMEZONE
TZID:America/New_York
BEGIN:STANDARD
DTSTART:20251102T020000Z
TZOFFSETFROM:-0400
TZOFFSETTO:-0500
END:STANDARD
BEGIN:DAYLIGHT
DTSTART:20260308T020000Z
TZOFFSETFROM:-0500
TZOFFSETTO:-0400
END:DAYLIGHT
BEGIN:STANDARD
DTSTART:20261101T020000Z
TZOFFSETFROM:-0400
TZOFFSETTO:-0500
END:STANDARD
END:VTIMEZONE
BEGIN:VTIMEZONE
TZID:UTC
BEGIN:STANDARD
DTSTART:20250727T171552Z
TZOFFSETFROM:+0000
TZOFFSETTO:+0000
END:STANDARD
END:VTIMEZONE
BEGIN:VEVENT
UID:114-95
DTSTAMP:20260423T171552Z
SUMMARY:Jewish Records at Ancestry.com by Crista Cowan
LOCATION:
ORGANIZER;CN=JGS Long Island:MAILTO:webmaster@jgsli.org
DTSTART;TZID=America/New_York:20260503T140000
DTEND;TZID=America/New_York:20260503T160000
X-ALT-DESC;FMTTYPE=TEXT/HTML:<p>Join Crista Cowan as she highlights two of 
 the latest Holocaust record collections documenting the post-war registrat
 ions of Holocaust survivors and displaced persons from various camps in Ge
 rmany and Europe. From lists created by Jewish aid organizations like the 
 World Jewish Congress to government consulate records worldwide\, these do
 cuments trace individuals’ journeys after liberation—revealing pattern
 s of migration\, community rebuilding\, and the vital role of registration
  in reconnecting lives torn apart by war.</p>\n
CATEGORIES:General
URL;VALUE=URI:https://jgsli.org/mc-events/jewish-records-at-ancestry-com-by
 -crista-cowan/
METHOD:PUBLISH
END:VEVENT
END:VCALENDAR