BEGIN:VCALENDAR
VERSION:2.0
PRODID:spatie/icalendar-generator
DESCRIPTION:Events from JGSLI
X-WR-CALDESC:Events from JGSLI
REFRESH-INTERVAL;VALUE=DURATION:PT1440M
X-PUBLISHED-TTL:PT1440M
BEGIN:VTIMEZONE
TZID:America/New_York
BEGIN:STANDARD
DTSTART:20251102T020000Z
TZOFFSETFROM:-0400
TZOFFSETTO:-0500
END:STANDARD
BEGIN:DAYLIGHT
DTSTART:20260308T020000Z
TZOFFSETFROM:-0500
TZOFFSETTO:-0400
END:DAYLIGHT
END:VTIMEZONE
BEGIN:VTIMEZONE
TZID:UTC
BEGIN:STANDARD
DTSTART:20250728T001355Z
TZOFFSETFROM:+0000
TZOFFSETTO:+0000
END:STANDARD
END:VTIMEZONE
BEGIN:VEVENT
UID:112-90
DTSTAMP:20260424T001355Z
SUMMARY:A Stone for Elka by Jennifer Wolf Kam *In Person &amp;amp\; Zoom*
LOCATION:Mid-Island Y JCC 45 Manetto Hill Rd  Plainview NY 11803
ORGANIZER;CN=JGS Long Island:MAILTO:webmaster@jgsli.org
DTSTART;TZID=America/New_York:20260208T140000
DTEND;TZID=America/New_York:20260208T160000
X-ALT-DESC;FMTTYPE=TEXT/HTML:<p>In 1901\, Jennifer Wolf Kam's great-great-g
 randmother Yetta Bloomgold lost a child. Her 16-year-old daughter disappea
 red from London\, en route to the United States. The tragic story spans th
 ree continents\, from Bialystok to London to New York and finally to Argen
 tina\, where the young woman’s trail runs cold. As the family genealogis
 ts\, Jennifer and her cousin Matt Brown ultimately hope to discover their 
 great-great-aunt’s fate and\, with it\, her grave\, to place a long-over
 due stone upon it. Framed by a recently discovered 1913 article in The For
 ward (Forvertz)\, this presentation will outline our search efforts and di
 scoveries. It will also offer insight into the historical context of Elka'
 s disappearance\, which includes a glimpse into the sordid world of turn-o
 f-the-century human trafficking in South America. To attend via Zoom use t
 he link below. If you will be in person at the Mid-Island Y in Plainview p
 lease click on Details below and then on the REGISTER HERE link on that sc
 reen.</p>\n
CATEGORIES:General
URL;VALUE=URI:https://jgsli.org/mc-events/a-stone-for-elka-by-jennifer-wolf
 -kam-in-person-zoom/
METHOD:PUBLISH
END:VEVENT
END:VCALENDAR