BEGIN:VCALENDAR
VERSION:2.0
PRODID:spatie/icalendar-generator
DESCRIPTION:Events from JGSLI
X-WR-CALDESC:Events from JGSLI
REFRESH-INTERVAL;VALUE=DURATION:PT1440M
X-PUBLISHED-TTL:PT1440M
BEGIN:VTIMEZONE
TZID:America/New_York
BEGIN:STANDARD
DTSTART:20251102T020000Z
TZOFFSETFROM:-0400
TZOFFSETTO:-0500
END:STANDARD
BEGIN:DAYLIGHT
DTSTART:20260308T020000Z
TZOFFSETFROM:-0500
TZOFFSETTO:-0400
END:DAYLIGHT
END:VTIMEZONE
BEGIN:VTIMEZONE
TZID:UTC
BEGIN:STANDARD
DTSTART:20250727T204619Z
TZOFFSETFROM:+0000
TZOFFSETTO:+0000
END:STANDARD
END:VTIMEZONE
BEGIN:VEVENT
UID:111-93
DTSTAMP:20260423T204619Z
SUMMARY:Finding Ancestors in the 19th Century Russian Revizskie Skazki by H
 al Bookbinder
LOCATION:
ORGANIZER;CN=JGS Long Island:MAILTO:webmaster@jgsli.org
DTSTART;TZID=America/New_York:20260325T190000
DTEND;TZID=America/New_York:20260325T210000
X-ALT-DESC;FMTTYPE=TEXT/HTML:<p>The Russian Revizskie skazki can be a gold 
 mine in finding information about our ancestors. “Revizskie skazki” li
 terally translates as “revision tales”\, though we generally refer to 
 them as “revision lists”. While censuses only provide information on p
 eople currently alive\, revision lists include “tales” about the men w
 ho died or moved away since the prior revision list. The talk will provide
  an overview of the periodic revision lists and demonstrate how Hal was ab
 le to use the 1850 and 1858 ones to identify ancestors\, including those w
 ho lived earlier\, and even to creatively use the information to get back 
 yet an extra generation or two where no records exist at all. During the p
 ast three years\, the JewishGen Ukraine Research Division has indexed and 
 made available on the All-Ukraine Database\, approximately four million Ru
 ssian records. This includes hundreds of thousands of records from Revisio
 n Lists and other censuses of Jews living in the Russian Empire. Hal will 
 demonstrate how to efficiently search this amazing resource</p>\n
CATEGORIES:General
URL;VALUE=URI:https://jgsli.org/mc-events/finding-ancestors-in-the-19th-cen
 tury-russian-revizskie-skazki-by-hal-bookbinder/
METHOD:PUBLISH
END:VEVENT
END:VCALENDAR