BEGIN:VCALENDAR
VERSION:2.0
PRODID:spatie/icalendar-generator
DESCRIPTION:Events from JGSLI
X-WR-CALDESC:Events from JGSLI
REFRESH-INTERVAL;VALUE=DURATION:PT1440M
X-PUBLISHED-TTL:PT1440M
BEGIN:VTIMEZONE
TZID:America/New_York
BEGIN:DAYLIGHT
DTSTART:20250309T020000Z
TZOFFSETFROM:-0500
TZOFFSETTO:-0400
END:DAYLIGHT
BEGIN:STANDARD
DTSTART:20251102T020000Z
TZOFFSETFROM:-0400
TZOFFSETTO:-0500
END:STANDARD
BEGIN:DAYLIGHT
DTSTART:20260308T020000Z
TZOFFSETFROM:-0500
TZOFFSETTO:-0400
END:DAYLIGHT
END:VTIMEZONE
BEGIN:VTIMEZONE
TZID:UTC
BEGIN:STANDARD
DTSTART:20250727T163409Z
TZOFFSETFROM:+0000
TZOFFSETTO:+0000
END:STANDARD
END:VTIMEZONE
BEGIN:VEVENT
UID:102-84
DTSTAMP:20260423T163409Z
SUMMARY:Piecing Together History: Using Maps and Directories to Rediscover 
 Eastern European Towns by Michelle Chubenko (Zoom Only)
LOCATION:
ORGANIZER;CN=JGS Long Island:MAILTO:webmaster@jgsli.org
DTSTART;TZID=America/New_York:20251022T190000
DTEND;TZID=America/New_York:20251022T210000
X-ALT-DESC;FMTTYPE=TEXT/HTML:<p>Our ancestor’s lives were more than the l
 ife events of birth\, marriage and death. Yet\, finding already constructe
 d historical vignettes for where they lived aren’t always readily availa
 ble. During the presentation\, Michelle will share how to use published ma
 terials such as gazetteers\, schematisms\, directories and maps\, to build
  the historical image of your ancestral town/village. She will demonstrate
  how to use the statistical data and incorporate visual details using a va
 riety of examples from locations across Central and Eastern Europe.</p>\n
CATEGORIES:General
URL;VALUE=URI:https://jgsli.org/mc-events/piecing-together-history-using-ma
 ps-and-directories-to-rediscover-eastern-european-towns-by-michelle-chuben
 ko-zoom-only/
METHOD:PUBLISH
END:VEVENT
END:VCALENDAR