BEGIN:VCALENDAR
VERSION:2.0
PRODID:spatie/icalendar-generator
DESCRIPTION:Events from JGSLI
X-WR-CALDESC:Events from JGSLI
REFRESH-INTERVAL;VALUE=DURATION:PT1440M
X-PUBLISHED-TTL:PT1440M
BEGIN:VTIMEZONE
TZID:America/New_York
BEGIN:DAYLIGHT
DTSTART:20250309T020000Z
TZOFFSETFROM:-0500
TZOFFSETTO:-0400
END:DAYLIGHT
BEGIN:STANDARD
DTSTART:20251102T020000Z
TZOFFSETFROM:-0400
TZOFFSETTO:-0500
END:STANDARD
BEGIN:DAYLIGHT
DTSTART:20260308T020000Z
TZOFFSETFROM:-0500
TZOFFSETTO:-0400
END:DAYLIGHT
END:VTIMEZONE
BEGIN:VTIMEZONE
TZID:UTC
BEGIN:STANDARD
DTSTART:20250727T175654Z
TZOFFSETFROM:+0000
TZOFFSETTO:+0000
END:STANDARD
END:VTIMEZONE
BEGIN:VEVENT
UID:100-82
DTSTAMP:20260423T175654Z
SUMMARY:JGSLI 40th Anniversary
LOCATION:
ORGANIZER;CN=JGS Long Island:MAILTO:webmaster@jgsli.org
DTSTART;TZID=America/New_York:20250907T120000
DTEND;TZID=America/New_York:20250907T160000
X-ALT-DESC;FMTTYPE=TEXT/HTML:<p>JGSLI celebrates its 40th anniversary at Co
 lbeh Restaurant in Great Neck. Visit our special page at https://jgsli.org
 /anniversary/ for full details.</p>\n
CATEGORIES:General
URL;VALUE=URI:https://jgsli.org/mc-events/jgsli-40th-anniversary/
METHOD:PUBLISH
END:VEVENT
END:VCALENDAR