BEGIN:VCALENDAR
VERSION:2.0
PRODID:spatie/icalendar-generator
DESCRIPTION:Events from JGSLI
X-WR-CALDESC:Events from JGSLI
REFRESH-INTERVAL;VALUE=DURATION:PT1440M
X-PUBLISHED-TTL:PT1440M
BEGIN:VTIMEZONE
TZID:America/New_York
BEGIN:STANDARD
DTSTART:20211107T020000Z
TZOFFSETFROM:-0400
TZOFFSETTO:-0500
END:STANDARD
BEGIN:DAYLIGHT
DTSTART:20220313T020000Z
TZOFFSETFROM:-0500
TZOFFSETTO:-0400
END:DAYLIGHT
END:VTIMEZONE
BEGIN:VTIMEZONE
TZID:UTC
BEGIN:STANDARD
DTSTART:20250728T160936Z
TZOFFSETFROM:+0000
TZOFFSETTO:+0000
END:STANDARD
END:VTIMEZONE
BEGIN:VEVENT
UID:10-7
DTSTAMP:20260424T160936Z
SUMMARY:7PM - Interview with Rabbi Moyshe Kolesnik\, Keeping the Galitziane
 r Flame Alive in the Heart of Galicia by Steven Turner
LOCATION:
ORGANIZER;CN=JGS Long Island:MAILTO:webmaster@jgsli.org
DTSTART;TZID=America/New_York:20220413T190000
DTEND;TZID=America/New_York:20220413T200000
X-ALT-DESC;FMTTYPE=TEXT/HTML:<p>Rabbi Kolesnik is the rabbi of the Tempel S
 ynagogue in Ivano-Frankivsk\, Ukraine formerly Stanisławów\, Poland. Rab
 bi Kolesnik was born in Ivano-Frankivsk after his family was resettled eas
 t from Russia. After the fall of the USSR the building that housed the syn
 agogue was returned to the Jewish community (1992) and Rabbi Kolesnik beca
 me the spiritual leader of the congregation. The Stanisławów district wa
 s one of the most densely populated districts with Jews in all of Galicia 
 and interwar Poland. Now\, as the only Rabbi in the district\, Rabbi Koles
 nik has responsibility for all the Jewish cemeteries and mass grave sites 
 in the area. In addition\, he has an extensive collection of genealogical 
 and Holocaust records in his study. Gesher Galicia is currently categorizi
 ng this collection in order to make it available to the community.</p>\n
CATEGORIES:General
URL;VALUE=URI:https://jgsli.org/mc-events/7pm-interview-with-rabbi-moyshe-k
 olesnik-keeping-the-galitzianer-flame-alive-in-the-heart-of-galicia-by-ste
 ven-turner/
METHOD:PUBLISH
END:VEVENT
END:VCALENDAR